BEGIN:VCALENDAR
VERSION:2.0
PRODID:-//wp-events-plugin.com//7.2.3.1//EN
TZID:America/Vancouver
X-WR-TIMEZONE:America/Vancouver
BEGIN:VEVENT
UID:45@ahoybc.com
DTSTART;TZID=America/Vancouver;VALUE=DATE:20240308
DTEND;TZID=America/Vancouver;VALUE=DATE:20240310
DTSTAMP:20240302T000059Z
URL:https://ahoybc.com/events/chemainus-theatre-festival/
SUMMARY:Chemainus Theatre Festival
DESCRIPTION:The Chemainus Theatre Festival is a vibrant\, established and f
 ully professional theatre nestled in the seaside community of Chemainus\, 
 BC. Featuring some of the finest performers and performances in Canada\, T
 he Chemainus Theatre is your place to get together and liven up. The 2024 
 year features a fantastic and wide array of musicals\, comedies\, mysterie
 s\, and thrillers. In between these mainstage delights\, check out the Pla
 ybill Presents Cabaret Series – featuring fantastic musicians and storyt
 ellers in the intimacy of the Playbill Dining Room. Discover our 2024 seas
 on here: https://chemainustheatrefestival.ca/discover-our-2024-season/
ATTACH;FMTTYPE=image/jpeg:https://ahoybc.com/wp-content/uploads/2023/02/Ch
 emainus-Theatre-Festival.jpg
CATEGORIES:Cowichan
LOCATION:Chemainus Theatre\, 9737 Chemainus Road\, Chemainus\, Canada
X-APPLE-STRUCTURED-LOCATION;VALUE=URI;X-ADDRESS=9737 Chemainus Road\, Chema
 inus\, Canada;X-APPLE-RADIUS=100;X-TITLE=Chemainus Theatre:geo:0,0
END:VEVENT
BEGIN:VTIMEZONE
TZID:America/Vancouver
X-LIC-LOCATION:America/Vancouver
BEGIN:STANDARD
DTSTART:20231105T010000
TZOFFSETFROM:-0700
TZOFFSETTO:-0800
TZNAME:PST
END:STANDARD
END:VTIMEZONE
END:VCALENDAR