BEGIN:VCALENDAR
VERSION:2.0
PRODID:-//wp-events-plugin.com//7.2.3.1//EN
TZID:America/Vancouver
X-WR-TIMEZONE:America/Vancouver
BEGIN:VEVENT
UID:39@ahoybc.com
DTSTART;TZID=America/Vancouver;VALUE=DATE:20240929
DTEND;TZID=America/Vancouver;VALUE=DATE:20240930
DTSTAMP:20240910T193329Z
URL:https://ahoybc.com/events/salt-spring-apple-festival/
SUMMARY:Salt Spring Apple Festival
DESCRIPTION:The Salt Spring Island Apple Festival is an incredible little c
 ommunity event\, attracting about 1500 apple lovers\, celebrating the appl
 es (and food) of Salt Spring Island and connecting you with the farms and 
 farmers that produce this very special diversity of tasty\, healthy food. 
 Attendees all become SALT SPRING ISLAND APPLE CONNOISSEURS!
ATTACH;FMTTYPE=image/jpeg:https://ahoybc.com/wp-content/uploads/2024/02/ss
 i-apple-fest.jpg
CATEGORIES:Southern Gulf Islands
LOCATION:Salt Spring Island\, Salt Spring Island\, Salt Spring Island\, Can
 ada
X-APPLE-STRUCTURED-LOCATION;VALUE=URI;X-ADDRESS=Salt Spring Island\, Salt S
 pring Island\, Canada;X-APPLE-RADIUS=100;X-TITLE=Salt Spring Island:geo:0,
 0
END:VEVENT
BEGIN:VTIMEZONE
TZID:America/Vancouver
X-LIC-LOCATION:America/Vancouver
BEGIN:DAYLIGHT
DTSTART:20240310T030000
TZOFFSETFROM:-0800
TZOFFSETTO:-0700
TZNAME:PDT
END:DAYLIGHT
END:VTIMEZONE
END:VCALENDAR