BEGIN:VCALENDAR
VERSION:2.0
PRODID:-//wp-events-plugin.com//7.2.3.1//EN
TZID:America/Vancouver
X-WR-TIMEZONE:America/Vancouver
BEGIN:VEVENT
UID:76@ahoybc.com
DTSTART;TZID=America/Vancouver;VALUE=DATE:20240801
DTEND;TZID=America/Vancouver;VALUE=DATE:20240805
DTSTAMP:20240302T195405Z
URL:https://ahoybc.com/events/sunfest-country-music-festival/
SUMMARY:Sunfest Country Music Festival
DESCRIPTION:Sunfest Country Music Festival is a country music lovers’ par
 adise! Hosted at Laketown Ranch in Cowichan Lake\, this all-star lineup is
  the perfect way to celebrate the BC Day Long Weekend. 2024 features Keith
  Urban.
ATTACH;FMTTYPE=image/jpeg:https://ahoybc.com/wp-content/uploads/2024/03/su
 nfest-2024-e1709409121646.jpg
CATEGORIES:Cowichan
LOCATION:Laketown Ranch\, 8811 Youbou Rd #648\, Lake Cowichan\, BC\, V0R 2G
 1\, Canada
X-APPLE-STRUCTURED-LOCATION;VALUE=URI;X-ADDRESS=8811 Youbou Rd #648\, Lake 
 Cowichan\, BC\, V0R 2G1\, Canada;X-APPLE-RADIUS=100;X-TITLE=Laketown Ranch
 :geo:0,0
END:VEVENT
BEGIN:VTIMEZONE
TZID:America/Vancouver
X-LIC-LOCATION:America/Vancouver
BEGIN:DAYLIGHT
DTSTART:20240310T030000
TZOFFSETFROM:-0800
TZOFFSETTO:-0700
TZNAME:PDT
END:DAYLIGHT
END:VTIMEZONE
END:VCALENDAR